BEGIN:VCALENDAR
VERSION:2.0
PRODID:-//London School of Ultrasound
CALSCALE:GREGORIAN
METHOD:PUBLISH
X-WR-CALNAME:London School of Ultrasound
X-ORIGINAL-URL:https://fetalechocardiography.com/all-courses/on-demand/early-fetal-scan-live-demo/
X-WR-CALDESC:Expert Early Fetal Scan at 11-13 Weeks: Live Demo Recording
BEGIN:VEVENT
DTSTART:
DTEND:
SUMMARY:Expert Early Fetal Scan at 11-13 Weeks: Live Demo Recording
DESCRIPTION:<p style="text-align: center;">Expert Early Fetal Scan at 11-13 Weeks: Virtual Live Demo Masterclass Recording</p>
LOCATION:
END:VEVENT
END:VCALENDAR
